BEGIN:VCALENDAR
VERSION:2.0
PRODID:-//Get In The Kitchen | Cooking. While. Awesome. - ECPv6.11.2.1//NONSGML v1.0//EN
CALSCALE:GREGORIAN
METHOD:PUBLISH
X-ORIGINAL-URL:https://getmeinthekitchen.com
X-WR-CALDESC:Events for Get In The Kitchen | Cooking. While. Awesome.
REFRESH-INTERVAL;VALUE=DURATION:PT1H
X-Robots-Tag:noindex
X-PUBLISHED-TTL:PT1H
BEGIN:VTIMEZONE
TZID:America/Chicago
BEGIN:DAYLIGHT
TZOFFSETFROM:-0600
TZOFFSETTO:-0500
TZNAME:CDT
DTSTART:20190310T080000
END:DAYLIGHT
BEGIN:STANDARD
TZOFFSETFROM:-0500
TZOFFSETTO:-0600
TZNAME:CST
DTSTART:20191103T070000
END:STANDARD
END:VTIMEZONE
BEGIN:VEVENT
DTSTART;TZID=America/Chicago:20190728T130000
DTEND;TZID=America/Chicago:20190728T150000
DTSTAMP:20260419T174616
CREATED:20190704T205719Z
LAST-MODIFIED:20190704T210204Z
UID:12831-1564318800-1564326000@getmeinthekitchen.com
SUMMARY:Sunday Funday! Margaritas\, Blueberry Chipotle Chicken Tacos & Pico De Gallo!
DESCRIPTION:Sunday Funday: Margaritas!\nDETAILS & TICKETS CLICK HEREJoin us at Get in the Kitchen! for our first Sunday Funday! Make two amazing margaritas from scratch\, and then make our famous Blueberry Chipotle Chicken Tacos and pico de gallo with homemade baked tortilla chips. We will be making the Margarita Mixes\, but you will have to supply the tequila as we are a BYOB facility. \nMenu: Mint Ginger Margarita & Spicy Smoky Chipotle Margarita mixes from Scratch\,  Blueberry Chipotle Chicken Tacos & Chips & Pico De Gallo BYOB- Bring your own tequila or any other beverages \nDate & Time: Sunday\, July 28th\, 2017 1:00 PM \nPlace: Get in the Kitchen! 3617 N. Broadway St. Chicago \nDETAILS & TICKETS CLICK HERE
URL:https://getmeinthekitchen.com/calendar/sunday-funday-margaritas-blueberry-chipotle-chicken-tacos-pico-de-gallo/
LOCATION:Get in the Kitchen!\, 3617 N. Broadway St.\, Chicago\, IL\, 60613\, United States
END:VEVENT
END:VCALENDAR