BEGIN:VCALENDAR
VERSION:2.0
PRODID:-//Get In The Kitchen | Cooking. While. Awesome. - ECPv6.11.2.1//NONSGML v1.0//EN
CALSCALE:GREGORIAN
METHOD:PUBLISH
X-ORIGINAL-URL:https://getmeinthekitchen.com
X-WR-CALDESC:Events for Get In The Kitchen | Cooking. While. Awesome.
REFRESH-INTERVAL;VALUE=DURATION:PT1H
X-Robots-Tag:noindex
X-PUBLISHED-TTL:PT1H
BEGIN:VTIMEZONE
TZID:America/Chicago
BEGIN:DAYLIGHT
TZOFFSETFROM:-0600
TZOFFSETTO:-0500
TZNAME:CDT
DTSTART:20200308T080000
END:DAYLIGHT
BEGIN:STANDARD
TZOFFSETFROM:-0500
TZOFFSETTO:-0600
TZNAME:CST
DTSTART:20201101T070000
END:STANDARD
END:VTIMEZONE
BEGIN:VEVENT
DTSTART;TZID=America/Chicago:20200719T100000
DTEND;TZID=America/Chicago:20200719T133000
DTSTAMP:20260419T150743
CREATED:20200708T233758Z
LAST-MODIFIED:20200708T233758Z
UID:17794-1595152800-1595165400@getmeinthekitchen.com
SUMMARY:Chef StephenB's The Sky is Falling Pop-Up Brunch (2 seatings)
DESCRIPTION:DETAILS & TICKETS CLICK HERE \nPlease note that this is a pop-up event hosted by Chef StephenB and gift cards and credits unfortunately cannot be used towards this event. \nJoin Chef StephenB as he launches his pop-up brunch series starting with ‘The Sky is Falling Pop-Up!’ featuring a fun twist on some classics!  Enjoy this two-course menu sipping on your complimentary ‘Ginger Bee’ and hangin with your peeps!  Each seating will be limited to 18 guests and a 90-minute time limit to ensure a safe and enjoyable time.  PLEASE NOTE: This is a set menu and cannot be modified unless mentioned below.  We are also BYOB if you’d like to bring your own libation.     \n$38 per person \nHow to Order: Choose your preferred date and time above and then select the quantity you wish to purchase for your group reservation. If you plan to dine with someone\, please write that in the notes so we can effectively set up the dining room according to social distancing and safety guidelines. If you don’t let us know who you might be dining with 2 days in advance\, we cannot guarantee you will be sitting with them. Thanks for understanding! \nThe Sky is Falling Pop-Up Brunch at Get in the Kitchen! \nGet in the Kitchen! \n3617 N. Broadway \nChicago\, IL 60613 \n  \nThe Minty Ginger Bee (2 complimentary) \nhoney syrup\, ginger beer\, pineapple\, lime\, mint \nStarter (choice of) \nBagel Chips & Dip \ntoasted bagel\, housemade dip \nor \nChopped Lox & Bagel Salad \npickled cukes\, chopped lox\, bagel croutons \ngreens\, lemon chive buttermilk dressing \n*can be made vegetarian \n  \nEntree (choice of) \nFried Chicken & Eggs \nchef’s traditional seasoning shake \npotato hash\, cheese frittata \nor \nEgg on Egg \nfrittata topped with fried egg \nseasonal potato hash\, veggie \nPlease note the pricing is $38 + 20% Service Charge added at check out \nDETAILS & TICKETS CLICK HERE
URL:https://getmeinthekitchen.com/calendar/chef-stephenbs-the-sky-is-falling-pop-up-brunch-2-seatings-2/
END:VEVENT
BEGIN:VEVENT
DTSTART;TZID=America/Chicago:20200719T150000
DTEND;TZID=America/Chicago:20200719T163000
DTSTAMP:20260419T150743
CREATED:20200702T224546Z
LAST-MODIFIED:20200709T210445Z
UID:17716-1595170800-1595176200@getmeinthekitchen.com
SUMMARY:Sunday Funday! Pink Bikini Mixology Party
DESCRIPTION:DETAILS & TICKETS CLICK HERE \nJoin us at Get in the Kitchen! for our Sunday Funday Mixology Cooking Party! Learn how to make Chelsea’s Pink Bikini: Watermelon Chili Lime Tequila and munch on a few light snacks while you do! We will supply complimentary Tequila for your cocktails. You will learn how to make the infused Chili simple syrup and then construct the drink. \nSafety Precautions: We will be limiting class to 16 people and you will cook with the group you came in. All groups will be cooking at least 6 ft away from each other and you will be required to wear a mask while cooking and moving about the space. \nMenu: Pink Bikini: Watermelon Chili Lime Tequila Complimentary Tequila will be supplied for the cocktail\, but feel free to BYOB if you have a preference. \nPlease bring a container to bring the rest of your syrups home\, or you can purchase a glass bottle in the store. \nDate & Time: Sunday\, July 19th\, 2020 3 PM \nPlace: Get in the Kitchen! 3617 N. Broadway St. Chicago \nREFUND POLICY: THIS COOKING PARTY IS NON-REFUNDABLE \n  \nDETAILS & TICKETS CLICK HERE
URL:https://getmeinthekitchen.com/calendar/sunday-funday-pink-bikini-mixology-bbq-peach-chicken-flatbread-cooking-party/
END:VEVENT
END:VCALENDAR