BEGIN:VCALENDAR
VERSION:2.0
PRODID:-//Get In The Kitchen | Cooking. While. Awesome. - ECPv6.11.2.1//NONSGML v1.0//EN
CALSCALE:GREGORIAN
METHOD:PUBLISH
X-ORIGINAL-URL:https://getmeinthekitchen.com
X-WR-CALDESC:Events for Get In The Kitchen | Cooking. While. Awesome.
REFRESH-INTERVAL;VALUE=DURATION:PT1H
X-Robots-Tag:noindex
X-PUBLISHED-TTL:PT1H
BEGIN:VTIMEZONE
TZID:America/Chicago
BEGIN:DAYLIGHT
TZOFFSETFROM:-0600
TZOFFSETTO:-0500
TZNAME:CDT
DTSTART:20200308T080000
END:DAYLIGHT
BEGIN:STANDARD
TZOFFSETFROM:-0500
TZOFFSETTO:-0600
TZNAME:CST
DTSTART:20201101T070000
END:STANDARD
END:VTIMEZONE
BEGIN:VEVENT
DTSTART;TZID=America/Chicago:20200919T190000
DTEND;TZID=America/Chicago:20200919T190000
DTSTAMP:20260420T000559
CREATED:20200815T202731Z
LAST-MODIFIED:20200815T202731Z
UID:18040-1600542000-1600542000@getmeinthekitchen.com
SUMMARY:Twisted Tapas & Tricks: Cooking & Magic!
DESCRIPTION:DETAILS & TICKETS CLICK HERE \nTwisted Tapas & Tricks! Cooking & Magic. \nNot a cooking class! A cooking party! The most unique venue in Chicago for a night out! Come out and make some awesomeness and then get treated to a live magic show! And it’s BYOB!! \nCome learn how to make our take on Tapas and get treated to a magic show!! What else could you want from a night out? Our featured magician is going to be John Sturk\, co-founder of the Chicago Magic Lounge! \nSafety Precautions: We will be limiting class to 14 people and you will cook with the group  you came in. All groups will be cooking at least 6 ft away from each other and you will be required to wear a mask while moving about the space. Other guidelines will be explained when you join us. \nPrice of admission includes cooking\, dinner…and general awesomeness. BYOB!\nMenu:  \nCrispy Goat Cheese\, Potato & Albondigas Dumplings Bravas: Fried Dumplings stuffed with goat cheese\, ground turkey and mashed potato with Spicy Tomato Sauce (Sauce will be demonstrated)\,  \nGarlic Shrimp with Homemade Garlic Bread\, (Dough will be made prior but demonstrated) \nMixed Green Salad with a Spanish Paprika Dijon Vinaigrette Dressing- Will be prepared by us \nAvocado Citrus & Jalapeno Sorbet for Dessert- Will be prepared by us \nComplimentary cocktail of the night (good for at least 1 per person- BYOB for everything else) \nDate & Time: Saturday September 19th\, 2020 7PM \nPlace: Get in the Kitchen! 3617 N. Broadway St.\, Chicago\, IL 60613 \nEntertainment: Magic Show performed by John Sturk! \nDETAILS & TICKETS CLICK HERE \nREFUND POLICY: WE ARE NOT OFFERING REFUNDS AT THIS TIME\, BUT YOU CAN ENJOY A FULL CREDIT IF YOU CANCEL AT LEAST 7 DAYS IN ADVANCE. \nChicago Cooking Classes- Don’t let anyone else have your fun!
URL:https://getmeinthekitchen.com/calendar/twisted-tapas-tricks-cooking-magic/
END:VEVENT
END:VCALENDAR