BEGIN:VCALENDAR
VERSION:2.0
PRODID:-//Get In The Kitchen | Cooking. While. Awesome. - ECPv6.11.2.1//NONSGML v1.0//EN
CALSCALE:GREGORIAN
METHOD:PUBLISH
X-ORIGINAL-URL:https://getmeinthekitchen.com
X-WR-CALDESC:Events for Get In The Kitchen | Cooking. While. Awesome.
REFRESH-INTERVAL;VALUE=DURATION:PT1H
X-Robots-Tag:noindex
X-PUBLISHED-TTL:PT1H
BEGIN:VTIMEZONE
TZID:America/Chicago
BEGIN:DAYLIGHT
TZOFFSETFROM:-0600
TZOFFSETTO:-0500
TZNAME:CDT
DTSTART:20200308T080000
END:DAYLIGHT
BEGIN:STANDARD
TZOFFSETFROM:-0500
TZOFFSETTO:-0600
TZNAME:CST
DTSTART:20201101T070000
END:STANDARD
END:VTIMEZONE
BEGIN:VEVENT
DTSTART;TZID=America/Chicago:20201016T190000
DTEND;TZID=America/Chicago:20201016T190000
DTSTAMP:20260419T222655
CREATED:20200906T181939Z
LAST-MODIFIED:20200906T181939Z
UID:18297-1602874800-1602874800@getmeinthekitchen.com
SUMMARY:Meredith's Harry Potter Birthday Interactive Dinner!
DESCRIPTION:
URL:https://getmeinthekitchen.com/calendar/merediths-harry-potter-birthday-interactive-dinner/
END:VEVENT
END:VCALENDAR