BEGIN:VCALENDAR
VERSION:2.0
PRODID:-//Get In The Kitchen | Cooking. While. Awesome. - ECPv6.11.2.1//NONSGML v1.0//EN
CALSCALE:GREGORIAN
METHOD:PUBLISH
X-ORIGINAL-URL:https://getmeinthekitchen.com
X-WR-CALDESC:Events for Get In The Kitchen | Cooking. While. Awesome.
REFRESH-INTERVAL;VALUE=DURATION:PT1H
X-Robots-Tag:noindex
X-PUBLISHED-TTL:PT1H
BEGIN:VTIMEZONE
TZID:America/Chicago
BEGIN:DAYLIGHT
TZOFFSETFROM:-0600
TZOFFSETTO:-0500
TZNAME:CDT
DTSTART:20240310T080000
END:DAYLIGHT
BEGIN:STANDARD
TZOFFSETFROM:-0500
TZOFFSETTO:-0600
TZNAME:CST
DTSTART:20241103T070000
END:STANDARD
END:VTIMEZONE
BEGIN:VEVENT
DTSTART;TZID=America/Chicago:20240608T190000
DTEND;TZID=America/Chicago:20240608T190000
DTSTAMP:20260419T135110
CREATED:20240430T004903Z
LAST-MODIFIED:20240430T004903Z
UID:27613-1717873200-1717873200@getmeinthekitchen.com
SUMMARY:Cooking & Karaoke! Sundried Tomato Smoked Salmon Rangoon and Garlic\, Jalapeno Scallion Pancakes Topped with Garlic Shrimp
DESCRIPTION:DETAILS & TICKETS\n    \nJoin us at the Party School of Cooking classes to make some awesome Twisted Tapas inspired dishes while you hang out and sing for your supper!! Mix and mingle\, and have fun while cooking a meal you won’t soon forget! Join us for a night of food\, karaoke\, socializing and fun! \nGrab a friend or three and head on over for the best cooking event you’ll ever attend! \nPrice of admission includes cooking\, karaoke\, dinner…and general hilarity. \nMenu: Twisted Tapas:  \n\nHomemade Scallion\, Jalapeno & Garlic Pancakes topped with Garlic Shrimp\nSmoked Salmon\, Sundried Tomato Rangoon\nMixed Salad with a Paprika Red Pepper vinaigrette Dressing  and Homemade Cardamom Cinnamon Ice Cream for Dessert made by us.\n\nDate & Time: Friday June 8th\, 2024 7:00 PM \nPlace: Get in the Kitchen! 3617 N. Broadway St.\, Chicago\, IL 60613 \nWINE & BEER: We have curated an amazingly great selection of wines and beer for a reasonable price! All of our wines are priced between $18-$25 per bottle and they are spectacular! They are available for purchase that evening. We have curated a small selection of great beer as well and they are between $7-$10 per can/bottle as well. \nREFUND POLICY: WE OFFER REFUNDS SUBJECT TO A $12.50 PROCESSING FEE UP UNTIL 14 DAYS BEFORE THE EVENT. IF YOU CANCEL WITHIN 14 DAYS AND 7 DAYS PRIOR TO THE EVENT\, YOU WILL RECIEVE CREDIT TOWARDS ANOTHER GET IN THE KITCHEN EVENT. IF YOU CANCEL BETWEEN 7 AND 4 DAYS PRIOR TO THE EVENT\, YOU WILL RECEIVE HALF CREDIT TOWARDS A FUTURE GET IN THE KITCHEN EVENT. IF YOU CANCEL WITHIN 72 HOURS OF AN EVENT\, YOU YOU CAN SUBSTITUTE ANYONE IN YOUR PLACE BUT UNFORTUNATELY WE CANNOT GIVE CREDIT OR A REFUND. \nChicago Cooking Classes- Don’t let anyone else have your fun!
URL:https://getmeinthekitchen.com/calendar/cooking-karaoke-sundried-tomato-smoked-salmon-rangoon-and-garlic-jalapeno-scallion-pancakes-topped-with-garlic-shrimp/
END:VEVENT
END:VCALENDAR