BEGIN:VCALENDAR
VERSION:2.0
PRODID:-//Get In The Kitchen | Cooking. While. Awesome. - ECPv6.11.2.1//NONSGML v1.0//EN
CALSCALE:GREGORIAN
METHOD:PUBLISH
X-WR-CALNAME:Get In The Kitchen | Cooking. While. Awesome.
X-ORIGINAL-URL:https://getmeinthekitchen.com
X-WR-CALDESC:Events for Get In The Kitchen | Cooking. While. Awesome.
REFRESH-INTERVAL;VALUE=DURATION:PT1H
X-Robots-Tag:noindex
X-PUBLISHED-TTL:PT1H
BEGIN:VTIMEZONE
TZID:America/Chicago
BEGIN:DAYLIGHT
TZOFFSETFROM:-0600
TZOFFSETTO:-0500
TZNAME:CDT
DTSTART:20250309T080000
END:DAYLIGHT
BEGIN:STANDARD
TZOFFSETFROM:-0500
TZOFFSETTO:-0600
TZNAME:CST
DTSTART:20251102T070000
END:STANDARD
END:VTIMEZONE
BEGIN:VEVENT
DTSTART;TZID=America/Chicago:20250116T183000
DTEND;TZID=America/Chicago:20250116T183000
DTSTAMP:20260419T150720
CREATED:20241111T184343Z
LAST-MODIFIED:20250102T170305Z
UID:28730-1737052200-1737052200@getmeinthekitchen.com
SUMMARY:GITK Social Club January Cooking\, Comedy & Wine Tasting!
DESCRIPTION:This event is only available for Social Club Members. To learn more about our social club\, click the button below. \n\n	    LEARN MORE\n    \nThis month\, join us for our Cooking\, Comedy & Wine Tasting Night!  Come in and learn about wines while you make Chinese Food! Taste three wines and then decide which will be our Wine of the Month next month! Don’t let the pressure get to you! \nMenu: Veggie Eggrolls & Hot & Sour Chicken! \nDate: Thursday January 16\, 2025 6:15PM \nPlace: Get in the Kitchen! 3617 N. Broadway St.\, Chicago\, IL 60613 \nEntertainment: Comedy
URL:https://getmeinthekitchen.com/calendar/gitk-social-club-january-imma-wyner-wine-tasting-night/
END:VEVENT
END:VCALENDAR