BEGIN:VCALENDAR
VERSION:2.0
PRODID:-//Get In The Kitchen | Cooking. While. Awesome. - ECPv6.11.2.1//NONSGML v1.0//EN
CALSCALE:GREGORIAN
METHOD:PUBLISH
X-ORIGINAL-URL:https://getmeinthekitchen.com
X-WR-CALDESC:Events for Get In The Kitchen | Cooking. While. Awesome.
REFRESH-INTERVAL;VALUE=DURATION:PT1H
X-Robots-Tag:noindex
X-PUBLISHED-TTL:PT1H
BEGIN:VTIMEZONE
TZID:America/Chicago
BEGIN:DAYLIGHT
TZOFFSETFROM:-0600
TZOFFSETTO:-0500
TZNAME:CDT
DTSTART:20250309T080000
END:DAYLIGHT
BEGIN:STANDARD
TZOFFSETFROM:-0500
TZOFFSETTO:-0600
TZNAME:CST
DTSTART:20251102T070000
END:STANDARD
END:VTIMEZONE
BEGIN:VEVENT
DTSTART;TZID=America/Chicago:20250121T180000
DTEND;TZID=America/Chicago:20250121T180000
DTSTAMP:20260420T061338
CREATED:20241111T171221Z
LAST-MODIFIED:20241111T171221Z
UID:28712-1737482400-1737482400@getmeinthekitchen.com
SUMMARY:Seasonal Ravioli with Drew!
DESCRIPTION:Join Drew for this intimate cooking class and learn how to make an amazing Gourmet Fall Ravioli Dinner from start to finish. Then eat it all when you are done! This class is limited to only 12 people. Drew will show you how to make: \nMassaged Kale Salad\, Cranberries\, Sunflower Seeds\, Feta \, Lemon\nRoasted Butternut Squash\, Ricotta\, Caramelized Onion Ravioli from scratch- Learn how to make the pasta dough from scratch along with the filling and then put it all together!\nGarlic Baguette from scratch\nPannacotta with Berries for dessert- Learn how to make this amazing dessert! \nWhen: Tuesday January 21st\, 2025  6pm \nPlace: Get in the Kitchen! 3617 N. Broadway St. Chicago \n REFUND POLICY: WE OFFER REFUNDS UP UNTIL 14 DAYS BEFORE THE EVENT SUBJECT TO A $12.50 PROCESSING FEE. IF YOU CANCEL WITHIN 14 DAYS AND 7 DAYS PRIOR TO THE EVENT\, YOU WILL RECIEVE CREDIT TOWARDS ANOTHER GET IN THE KITCHEN EVENT. IF YOU CANCEL BETWEEN 7 AND 4 DAYS PRIOR TO THE EVENT\, YOU WILL RECEIVE HALF CREDIT TOWARDS A FUTURE GET IN THE KITCHEN EVENT. IF YOU CANCEL WITHIN 72 HOURS OF AN EVENT\, YOU YOU CAN SUBSTITUTE ANYONE IN YOUR PLACE BUT UNFORTUNATELY WE CANNOT GIVE CREDIT OR A REFUND.
URL:https://getmeinthekitchen.com/calendar/seasonal-ravioli-with-drew/
END:VEVENT
END:VCALENDAR