BEGIN:VCALENDAR
VERSION:2.0
PRODID:-//Get In The Kitchen | Cooking. While. Awesome. - ECPv6.11.2.1//NONSGML v1.0//EN
CALSCALE:GREGORIAN
METHOD:PUBLISH
X-ORIGINAL-URL:https://getmeinthekitchen.com
X-WR-CALDESC:Events for Get In The Kitchen | Cooking. While. Awesome.
REFRESH-INTERVAL;VALUE=DURATION:PT1H
X-Robots-Tag:noindex
X-PUBLISHED-TTL:PT1H
BEGIN:VTIMEZONE
TZID:America/Chicago
BEGIN:DAYLIGHT
TZOFFSETFROM:-0600
TZOFFSETTO:-0500
TZNAME:CDT
DTSTART:20250309T080000
END:DAYLIGHT
BEGIN:STANDARD
TZOFFSETFROM:-0500
TZOFFSETTO:-0600
TZNAME:CST
DTSTART:20251102T070000
END:STANDARD
END:VTIMEZONE
BEGIN:VEVENT
DTSTART;TZID=America/Chicago:20250621T120000
DTEND;TZID=America/Chicago:20250621T150000
DTSTAMP:20260424T034842
CREATED:20250501T191933Z
LAST-MODIFIED:20250514T224226Z
UID:29956-1750507200-1750518000@getmeinthekitchen.com
SUMMARY:Pasta & Trivia! Fettuccine with Vodka Bolognese & Walnut Spinach Pesto Sauces
DESCRIPTION:DETAILS & TICKETS\n    \nBring a friend or ten & join us at the Party School of Cooking Classes for an awesome afternoon learning the art of handmade pasta and partake in a couple rounds of Trivia! Jason will help you create pasta from scratch so we can make homemade Fettuccine!  He will show you how to make his amazing Vodka Turkey Bolognese and Spinach Walnut Pesto Sauces as well! Mixed green salad with homemade salad dressing will accompany! \nWINE & BEER: We have curated an amazingly great selection of wines and beer for a reasonable price! All of our wines are priced between $18-$25 per bottle and they are spectacular! They are available for purchase that evening. We have curated a small selection of great beer as well and they are between $7-$10 per can/bottle as well. \nMenu: Homemade Fettuccine Noodles\, Vodka Turkey Bolognese and Spinach Walnut Pesto Sauces.  \nMixed green salad with homemade salad dressing will accompany! \nDate & Time: Saturday\, June 21\, 2025 12PM \nPlace: Get in the Kitchen! 3617 N. Broadway St.\, Chicago\, IL 60613 \nChicago Cooking Classes- Don’t let anyone else have your fun! \nREFUND POLICY: WE OFFER REFUNDS  SUBJECT TO A $12.50 PROCESSING FEE UP UNTIL 14 DAYS BEFORE THE EVENT. IF YOU CANCEL WITHIN 14 DAYS AND 7 DAYS PRIOR TO THE EVENT\, YOU WILL RECIEVE CREDIT TOWARDS ANOTHER GET IN THE KITCHEN EVENT. IF YOU CANCEL BETWEEN 7 AND 4 DAYS PRIOR TO THE EVENT\, YOU WILL RECEIVE HALF CREDIT TOWARDS A FUTURE GET IN THE KITCHEN EVENT. IF YOU CANCEL WITHIN 72 HOURS OF AN EVENT\, YOU CAN SUBSTITUTE ANYONE IN YOUR PLACE BUT UNFORTUNATELY WE CANNOT GIVE CREDIT OR A REFUND.
URL:https://getmeinthekitchen.com/calendar/pasta-trivia-fettuccine-with-vodka-bolognese-walnut-spinach-pesto-sauces/
END:VEVENT
END:VCALENDAR