BEGIN:VCALENDAR
VERSION:2.0
PRODID:-//Get In The Kitchen | Cooking. While. Awesome. - ECPv6.11.2.1//NONSGML v1.0//EN
CALSCALE:GREGORIAN
METHOD:PUBLISH
X-WR-CALNAME:Get In The Kitchen | Cooking. While. Awesome.
X-ORIGINAL-URL:https://getmeinthekitchen.com
X-WR-CALDESC:Events for Get In The Kitchen | Cooking. While. Awesome.
REFRESH-INTERVAL;VALUE=DURATION:PT1H
X-Robots-Tag:noindex
X-PUBLISHED-TTL:PT1H
BEGIN:VTIMEZONE
TZID:America/Chicago
BEGIN:DAYLIGHT
TZOFFSETFROM:-0600
TZOFFSETTO:-0500
TZNAME:CDT
DTSTART:20250309T080000
END:DAYLIGHT
BEGIN:STANDARD
TZOFFSETFROM:-0500
TZOFFSETTO:-0600
TZNAME:CST
DTSTART:20251102T070000
END:STANDARD
END:VTIMEZONE
BEGIN:VEVENT
DTSTART;TZID=America/Chicago:20250628T190000
DTEND;TZID=America/Chicago:20250628T190000
DTSTAMP:20260420T044539
CREATED:20250507T193849Z
LAST-MODIFIED:20250514T231120Z
UID:30025-1751137200-1751137200@getmeinthekitchen.com
SUMMARY:PRIDE Cooking & Drag Queen Karaoke! Twisted Tapas Night!
DESCRIPTION:DETAILS & TICKETS\n    \nCelebrate pride with us! Come in and learn how to make 2 amazingly delicious Tapas while you sing for your supper as we sing karaoke throughout the evening!!! \nMenu: \nPan Fried Albondigas & Zucchini Dumplings with Goat Cheese Bravas Sauce \nScallion Jalapeno Pancakes with Tequila Sweet Pepper Chicken & Chimichurri Sauce \nSalad with House Paprika Vinaigrette \nGinger Cinnamon Ice Cream (made by us)  \nPlace: Get in the Kitchen! 3617 N. Broadway St. Chicago \nDate & Time: Saturday\, June 28th\, 2025 7PM \nWINE & BEER: We have curated an amazingly great selection of wines and beer for a reasonable price! All of our wines are priced between $18-$25 per bottle and they are spectacular! They are available for purchase that evening. We have curated a small selection of great beer as well and they are between $7-$10 per can/bottle as well. \nREFUND POLICY: WE OFFER REFUNDS SUBJECT TO A $12.50 PROCESSING FEE UP UNTIL 14 DAYS BEFORE THE EVENT. IF YOU CANCEL WITHIN 14 DAYS AND 7 DAYS PRIOR TO THE EVENT\, YOU WILL RECIEVE CREDIT TOWARDS ANOTHER GET IN THE KITCHEN EVENT. IF YOU CANCEL BETWEEN 7 AND 4 DAYS PRIOR TO THE EVENT\, YOU WILL RECEIVE HALF CREDIT TOWARDS A FUTURE GET IN THE KITCHEN EVENT. IF YOU CANCEL WITHIN 72 HOURS OF AN EVENT\, YOU CAN SUBSTITUTE ANYONE IN YOUR PLACE BUT UNFORTUNATELY WE CANNOT GIVE CREDIT OR A REFUND.
URL:https://getmeinthekitchen.com/calendar/pride-cooking-drag-queen-karaoke-twisted-tapas-night/
END:VEVENT
END:VCALENDAR