BEGIN:VCALENDAR
VERSION:2.0
PRODID:-//Get In The Kitchen | Cooking. While. Awesome. - ECPv6.11.2.1//NONSGML v1.0//EN
CALSCALE:GREGORIAN
METHOD:PUBLISH
X-WR-CALNAME:Get In The Kitchen | Cooking. While. Awesome.
X-ORIGINAL-URL:https://getmeinthekitchen.com
X-WR-CALDESC:Events for Get In The Kitchen | Cooking. While. Awesome.
REFRESH-INTERVAL;VALUE=DURATION:PT1H
X-Robots-Tag:noindex
X-PUBLISHED-TTL:PT1H
BEGIN:VTIMEZONE
TZID:America/Chicago
BEGIN:DAYLIGHT
TZOFFSETFROM:-0600
TZOFFSETTO:-0500
TZNAME:CDT
DTSTART:20250309T080000
END:DAYLIGHT
BEGIN:STANDARD
TZOFFSETFROM:-0500
TZOFFSETTO:-0600
TZNAME:CST
DTSTART:20251102T070000
END:STANDARD
END:VTIMEZONE
BEGIN:VEVENT
DTSTART;TZID=America/Chicago:20250716T130000
DTEND;TZID=America/Chicago:20250716T160000
DTSTAMP:20260421T094218
CREATED:20250521T163234Z
LAST-MODIFIED:20250521T163234Z
UID:30188-1752670800-1752681600@getmeinthekitchen.com
SUMMARY:PRIVATE PARTY: Corporate Pizza Party
DESCRIPTION:
URL:https://getmeinthekitchen.com/calendar/private-party-corporate-pizza-party-2/
END:VEVENT
BEGIN:VEVENT
DTSTART;TZID=America/Chicago:20250716T183000
DTEND;TZID=America/Chicago:20250716T183000
DTSTAMP:20260421T094218
CREATED:20250325T155432Z
LAST-MODIFIED:20250530T185547Z
UID:29744-1752690600-1752690600@getmeinthekitchen.com
SUMMARY:GITK Social Club Wine Tasting Night!
DESCRIPTION:This event is only available for Social Club Members. To learn more about our social club\, click the button below. \n\n	    LEARN MORE\n    \nThis month taste three wines and choose our wine of the month for May! Then make a great meal! Join us for a night of food\, socializing and fun! \nMenu: TBD \nDate & Time: Wednesday\, July 16\, 2025 6:30 PM \nPlace: Get in the Kitchen! 3617 N. Broadway St.\, Chicago\, IL 60613 \nChicago Cooking Classes- Don’t let anyone else have your fun! \n 
URL:https://getmeinthekitchen.com/calendar/april-social-club-wine-tasting-night-2/
END:VEVENT
END:VCALENDAR