BEGIN:VCALENDAR
VERSION:2.0
PRODID:-//Get In The Kitchen | Cooking. While. Awesome. - ECPv6.11.2.1//NONSGML v1.0//EN
CALSCALE:GREGORIAN
METHOD:PUBLISH
X-ORIGINAL-URL:https://getmeinthekitchen.com
X-WR-CALDESC:Events for Get In The Kitchen | Cooking. While. Awesome.
REFRESH-INTERVAL;VALUE=DURATION:PT1H
X-Robots-Tag:noindex
X-PUBLISHED-TTL:PT1H
BEGIN:VTIMEZONE
TZID:America/Chicago
BEGIN:DAYLIGHT
TZOFFSETFROM:-0600
TZOFFSETTO:-0500
TZNAME:CDT
DTSTART:20250309T080000
END:DAYLIGHT
BEGIN:STANDARD
TZOFFSETFROM:-0500
TZOFFSETTO:-0600
TZNAME:CST
DTSTART:20251102T070000
END:STANDARD
END:VTIMEZONE
BEGIN:VEVENT
DTSTART;TZID=America/Chicago:20250501T180000
DTEND;TZID=America/Chicago:20250501T180000
DTSTAMP:20260422T024121
CREATED:20250325T160309Z
LAST-MODIFIED:20250402T210243Z
UID:29746-1746122400-1746122400@getmeinthekitchen.com
SUMMARY:Social Club Sushi Night!
DESCRIPTION:This event is only available for Social Club Members. To learn more about our social club\, click the button below. \n\n	    LEARN MORE\n    \nThis month’s Social event is full of Sass! Join us at the party school of cooking classes for an awesome night learning the art of handmade Sushi while you sip on the wine of the month! \nThen stay for our Comedy show and socializing! \nMenu: Sushi Rolls of the Month: Smoked Salmon\, Apple\, Green Onion & spicy mayo & Shrimp with Jalapeno\, Green onion  & cream Cheese \nDate & Time: Thursday May 1st\, 2025 6:00PM \nPlace: Get in the Kitchen! 3617 N. Broadway St.\, Chicago\, IL 60613 \nChicago Cooking Classes- Don’t let anyone else have your fun!
URL:https://getmeinthekitchen.com/calendar/29746/
END:VEVENT
BEGIN:VEVENT
DTSTART;TZID=America/Chicago:20250504T133000
DTEND;TZID=America/Chicago:20250504T163000
DTSTAMP:20260422T024121
CREATED:20250312T173520Z
LAST-MODIFIED:20250312T173546Z
UID:29672-1746365400-1746376200@getmeinthekitchen.com
SUMMARY:PRIVATE EVENT: Pasta & Karaoke Birthday Party!
DESCRIPTION:
URL:https://getmeinthekitchen.com/calendar/pasta-karaoke-birthday-party/
END:VEVENT
BEGIN:VEVENT
DTSTART;TZID=America/Chicago:20250509T190000
DTEND;TZID=America/Chicago:20250509T190000
DTSTAMP:20260422T024121
CREATED:20250408T134158Z
LAST-MODIFIED:20250408T134158Z
UID:29851-1746817200-1746817200@getmeinthekitchen.com
SUMMARY:Cooking & Comedy: Chinese Food Night!
DESCRIPTION:DETAILS & TICKETS\n    \nLearn how to make 2 amazing Chinese dishes and watch a comedy show! We will start out with a classic veggie eggroll\, followed by Hot & Sour Chicken and Chinese Vegetables. Join us for a night of food\, socializing and Comedy! \nGrab a friend or three and head on over for the best cooking class you’ll ever attend! \nWINE & BEER: We have curated an amazingly great selection of wines and beer for a reasonable price! All of our wines are priced between $18-$25 per bottle and they are spectacular! They are available for purchase that evening. We have curated a small selection of great beer as well and they are between $7-$10 per can/bottle as well. \nMenu: Veggie Egg Rolls\, Hot & Sour Chicken & Chinese Vegetables over Lo Mein Noodles & Ginger Cinnamon Ice cream for dessert (made by us) \nDate & Time: Friday\, May 9th\, 2025 7 PM \nPlace: Get in the Kitchen! 3617 N. Broadway St.\, Chicago\, IL 60613 \nChicago Cooking Classes- Don’t let anyone else have your fun! \nAll of our parties are for guests over 21 unless otherwise stated. \nREFUND POLICY: WE OFFER REFUNDS UP UNTIL 14 DAYS BEFORE THE EVENT SUBJECT TO A $12.50 PROCESSING FEE. IF YOU CANCEL WITHIN 14 DAYS AND 7 DAYS PRIOR TO THE EVENT\, YOU WILL RECIEVE CREDIT TOWARDS ANOTHER GET IN THE KITCHEN EVENT. IF YOU CANCEL BETWEEN 7 AND 4 DAYS PRIOR TO THE EVENT\, YOU WILL RECEIVE HALF CREDIT TOWARDS A FUTURE GET IN THE KITCHEN EVENT. IF YOU CANCEL WITHIN 72 HOURS OF AN EVENT\, YOU YOU CAN SUBSTITUTE ANYONE IN YOUR PLACE BUT UNFORTUNATELY WE CANNOT GIVE CREDIT OR A REFUND. \n 
URL:https://getmeinthekitchen.com/calendar/cooking-comedy-chinese-food-night-20/
END:VEVENT
BEGIN:VEVENT
DTSTART;TZID=America/Chicago:20250510T190000
DTEND;TZID=America/Chicago:20250510T190000
DTSTAMP:20260422T024121
CREATED:20250406T213552Z
LAST-MODIFIED:20250406T213552Z
UID:29844-1746903600-1746903600@getmeinthekitchen.com
SUMMARY:PRIVATE BIRTHDAY PARTY: Cooking & Queens: Chinese Food Night!
DESCRIPTION:Private birthday party for Bobby! With Drag Queens\, Drag Show & Chinese Food!
URL:https://getmeinthekitchen.com/calendar/private-birthday-party-cooking-queens-chinese-food-night/
END:VEVENT
BEGIN:VEVENT
DTSTART;TZID=America/Chicago:20250516T190000
DTEND;TZID=America/Chicago:20250516T190000
DTSTAMP:20260422T024121
CREATED:20250408T133214Z
LAST-MODIFIED:20250408T134014Z
UID:29847-1747422000-1747422000@getmeinthekitchen.com
SUMMARY:Dinner & Dancing: Tapas & Salsa Dancing Lessons!
DESCRIPTION:DETAILS & TICKETS\n    \nMake some Tapas inspired dishes while you hang out and learn to Salsa dance Latin style with Instructor Jon!! Mix and mingle\, and have fun while cooking a meal you won’t soon forget! Join us for a night of food\, salsa dancing\, socializing and fun! \nGrab a friend or three and head on over for the best cooking event you’ll ever attend! \nPrice of admission includes cooking\, salsa lessons\, dinner…and general hilarity. \n  \nMenu: Tapas:  \n\nHomemade Red Pepper Garlic Bread accompanied by Chimichurri Salsa and Garlic Shrimp\nCrispy Ground Turkey Albondigas & Asiago Dumplings with a Bravas Goat Cheese Sauce\nMixed Salad with a Paprika Red Pepper vinaigrette Dressing\nHomemade Ginger Cinnamon Ice Cream for Dessert made by us.\n\nDate & Time: Friday May 16\, 2025 7:00 PM \nPlace: Get in the Kitchen! 3617 N. Broadway St.\, Chicago\, IL 60613 \nWINE & BEER: We have curated an amazingly great selection of wines and beer for a reasonable price! All of our wines are priced between $18-$25 per bottle and they are spectacular! They are available for purchase that evening. We have curated a small selection of great beer as well and they are between $7-$10 per can/bottle as well. \nREFUND POLICY: WE OFFER REFUNDS UP UNTIL 14 DAYS BEFORE THE EVENT SUBJECT TO A $12.50 PER TICKET PROCESSING FEE. IF YOU CANCEL WITHIN 14 DAYS AND 7 DAYS PRIOR TO THE EVENT\, YOU WILL RECIEVE CREDIT TOWARDS ANOTHER GET IN THE KITCHEN EVENT. IF YOU CANCEL BETWEEN 7 AND 4 DAYS PRIOR TO THE EVENT\, YOU WILL RECEIVE HALF CREDIT TOWARDS A FUTURE GET IN THE KITCHEN EVENT. IF YOU CANCEL WITHIN 72 HOURS OF AN EVENT\, YOU YOU CAN SUBSTITUTE ANYONE IN YOUR PLACE BUT UNFORTUNATELY WE CANNOT GIVE CREDIT OR A REFUND. \nChicago Cooking Classes- Don’t let anyone else have your fun!
URL:https://getmeinthekitchen.com/calendar/dinner-dancing-tapas-salsa-dancing-lessons-6/
END:VEVENT
BEGIN:VEVENT
DTSTART;TZID=America/Chicago:20250517T190000
DTEND;TZID=America/Chicago:20250517T190000
DTSTAMP:20260422T024121
CREATED:20250406T213340Z
LAST-MODIFIED:20250406T213340Z
UID:29842-1747508400-1747508400@getmeinthekitchen.com
SUMMARY:Cooking & Queens! Pasta Night! Fettuccine\, Vodka Bolognese & Walnut Spinach Pesto
DESCRIPTION:DETAILS & TICKETS\n    \nBring a friend or ten & join us at the party school of cooking classes for an awesome night learning the art of handmade pasta and see a drag show! Jason will help you create pasta from scratch so we can make homemade Fettuccine!  He will show you how to make his amazing Vodka Turkey Bolognese and Spinach Walnut Pesto Sauces as well! \nThen stay for our drag show!! \nMixed green salad with homemade salad dressing will accompany! \nMenu: Homemade Fettuccine Noodles\, Vodka Turkey Bolognese and Spinach Walnut Pesto Sauces.  \nMixed green salad with homemade salad dressing will accompany! \nDate & Time: Saturday\, May 17\, 2025 7:00 PM \nPlace: Get in the Kitchen! 3617 N. Broadway St.\, Chicago\, IL 60613 \nChicago Cooking Classes- Don’t let anyone else have your fun! \nWINE & BEER: We have curated an amazingly great selection of wines and beer for a reasonable price! All of our wines are priced between $18-$25 per bottle and they are spectacular! They are available for purchase that evening. We have curated a small selection of great beer as well and they are between $7-$10 per can/bottle as well. \nREFUND POLICY: WE OFFER REFUNDS SUBJECT TO A $12.50 PROCESSING FEE UP UNTIL 14 DAYS BEFORE THE EVENT. IF YOU CANCEL WITHIN 14 DAYS AND 7 DAYS PRIOR TO THE EVENT\, YOU WILL RECIEVE CREDIT TOWARDS ANOTHER GET IN THE KITCHEN EVENT. IF YOU CANCEL BETWEEN 7 AND 4 DAYS PRIOR TO THE EVENT\, YOU WILL RECEIVE HALF CREDIT TOWARDS A FUTURE GET IN THE KITCHEN EVENT. IF YOU CANCEL WITHIN 72 HOURS OF AN EVENT\, YOU YOU CAN SUBSTITUTE ANYONE IN YOUR PLACE BUT UNFORTUNATELY WE CANNOT GIVE CREDIT OR A REFUND. \n 
URL:https://getmeinthekitchen.com/calendar/cooking-queens-pasta-night-fettuccine-vodka-bolognese-walnut-spinach-pesto/
END:VEVENT
BEGIN:VEVENT
DTSTART;TZID=America/Chicago:20250524T180000
DTEND;TZID=America/Chicago:20250524T180000
DTSTAMP:20260422T024121
CREATED:20250404T160518Z
LAST-MODIFIED:20250404T160518Z
UID:29837-1748109600-1748109600@getmeinthekitchen.com
SUMMARY:PRIVATE: Interactive Cocktail Birthday Party & Salsa Dancing!
DESCRIPTION:
URL:https://getmeinthekitchen.com/calendar/private-interactive-cocktail-birthday-party-salsa-dancing/
END:VEVENT
BEGIN:VEVENT
DTSTART;TZID=America/Chicago:20250525T130000
DTEND;TZID=America/Chicago:20250525T160000
DTSTAMP:20260422T024121
CREATED:20250423T163514Z
LAST-MODIFIED:20250423T163514Z
UID:29883-1748178000-1748188800@getmeinthekitchen.com
SUMMARY:GITK Social Club Dinner & Dancing
DESCRIPTION:This event is only available for Social Club Members. To learn more about our social club\, click the button below. \n\n	    LEARN MORE\n    \nThis month’s Social event is full of Spice! Join us at the party school of cooking classes for an awesome night learning a couple of Tapas inspired dishes and then learn to dance Latin style with Instructor Jon!! NO PARTNER NEEDED! Mix and mingle\, and have fun while cooking a meal you won’t soon forget! Join us for a night of food\, salsa dancing\, socializing and fun! \nMenu: Tapas:  \n\nHomemade Red Pepper Garlic Bread accompanied by Chimichurri Salsa \nCrispy Albondigas & Asiago Dumplings with a Bravas Goat Cheese Sauce\n\nDate & Time: May 25th\, 1 PM \nPlace: Get in the Kitchen! 3617 N. Broadway St.\, Chicago\, IL 60613 \n 
URL:https://getmeinthekitchen.com/calendar/gitk-social-club-dinner-dancing-2/
END:VEVENT
BEGIN:VEVENT
DTSTART;TZID=America/Chicago:20250528T180000
DTEND;TZID=America/Chicago:20250528T180000
DTSTAMP:20260422T024121
CREATED:20250423T165754Z
LAST-MODIFIED:20250423T165754Z
UID:29895-1748455200-1748455200@getmeinthekitchen.com
SUMMARY:GITK Social Club Bingo & Chinese Tapas Night!
DESCRIPTION:This event is only available for Social Club Members. To learn more about our social club\, click the button below. \n\n	    LEARN MORE\n    \nCome sip on the wine of the month and learn how to make 2 different Chinese Small Plates and play bingo for fun prizes throughout the evening! \nMenu: \nPan Fried Chinese Dumplings \nHot & Sour Chicken Bao \n  \nPlace: Get in the Kitchen! 3617 N. Broadway St. Chicago \nDate & Time: Wednesday May 28th\, 2025 6PM
URL:https://getmeinthekitchen.com/calendar/gitk-social-club-bingo-chinese-tapas-night/
END:VEVENT
BEGIN:VEVENT
DTSTART;TZID=America/Chicago:20250530T190000
DTEND;TZID=America/Chicago:20250530T190000
DTSTAMP:20260422T024121
CREATED:20250408T140121Z
LAST-MODIFIED:20250519T233448Z
UID:29853-1748631600-1748631600@getmeinthekitchen.com
SUMMARY:Cooking & Comedy: Sushi & Sass!
DESCRIPTION:DETAILS & TICKETS\n    \nCome in and learn how to make Sushi Rolls and be entertained by local comedians! Join us at the Party School of Cooking Classes as we make the sushi rice\, spicy mayo and sushi rolls! We will have various kinds of fish and vegies available to create your own amazing Sushi meal! Have fun while cooking a meal you won’t soon forget! Then stay for the comedy show! \nWatch local comedians as you eat your amazing creations and sip on wine! \nPLEASE NOTE: It takes time to learn how to and create your sushi. Please plan on eating at 8:45. \nWINE & BEER: We have curated an amazingly great selection of wines and beer for a reasonable price! All of our wines are priced between $18-$25 per bottle and they are spectacular! They are available for purchase that evening. We have curated a small selection of great beer as well and they are between $7-$10 per can/bottle as well. \nMenu: Sushi Rolls made by you and Cinnamon Ginger Ice Cream (made by us) \nDate & Time: Friday\,  May 30\, 2025 7:00 PM \nPlace: Get in the Kitchen! 3617 N. Broadway St.\, Chicago\, IL 60613 \nAll of our parties are for guests over 21 unless specified otherwise. \nREFUND POLICY: WE OFFER REFUNDS UP UNTIL 14 DAYS BEFORE THE EVENT SUBJECT TO A $12.50 PER TICKET PROCESSING FEE. IF YOU CANCEL WITHIN 14 DAYS AND 7 DAYS PRIOR TO THE EVENT\, YOU WILL RECIEVE CREDIT TOWARDS ANOTHER GET IN THE KITCHEN EVENT. IF YOU CANCEL BETWEEN 7 AND 4 DAYS PRIOR TO THE EVENT\, YOU WILL RECEIVE HALF CREDIT TOWARDS A FUTURE GET IN THE KITCHEN EVENT. IF YOU CANCEL WITHIN 72 HOURS OF AN EVENT\, YOU YOU CAN SUBSTITUTE ANYONE IN YOUR PLACE BUT UNFORTUNATELY WE CANNOT GIVE CREDIT OR A REFUND. \nAlso\, please note that we may not be able to accommodate unapproved restrictions. If you have dietary restrictions\, you should email us before purchasing a ticket. Any cancellation due to an unapproved dietary restriction is subject to a $25 cancellation fee.
URL:https://getmeinthekitchen.com/calendar/cooking-comedy-sushi-sass-3/
END:VEVENT
END:VCALENDAR